Package: single Version: 1.10.0 Command: /home/biocbuild/bbs-3.20-bioc/R/bin/R CMD check --install=check:single.install-out.txt --library=/home/biocbuild/bbs-3.20-bioc/R/site-library --timings single_1.10.0.tar.gz StartedAt: 2025-02-04 02:33:07 -0500 (Tue, 04 Feb 2025) EndedAt: 2025-02-04 02:36:47 -0500 (Tue, 04 Feb 2025) EllapsedTime: 220.2 seconds RetCode: 1 Status: ERROR CheckDir: single.Rcheck Warnings: NA