Package: single Version: 1.10.0 Command: /Library/Frameworks/R.framework/Resources/bin/R CMD check --install=check:single.install-out.txt --library=/Library/Frameworks/R.framework/Resources/library --no-vignettes --timings single_1.10.0.tar.gz StartedAt: 2025-02-01 09:38:57 -0500 (Sat, 01 Feb 2025) EndedAt: 2025-02-01 09:42:58 -0500 (Sat, 01 Feb 2025) EllapsedTime: 241.2 seconds RetCode: 0 Status: OK CheckDir: single.Rcheck Warnings: 0