Package: single Version: 1.10.0 Command: rm -rf single.buildbin-libdir && mkdir single.buildbin-libdir && /Users/biocbuild/BBS/utils/build-universal.sh single_1.10.0.tar.gz /Library/Frameworks/R.framework/Resources/bin/R single.buildbin-libdir StartedAt: 2025-02-01 16:56:43 -0500 (Sat, 01 Feb 2025) EndedAt: 2025-02-01 16:57:17 -0500 (Sat, 01 Feb 2025) EllapsedTime: 34.0 seconds RetCode: 0 Status: OK PackageFile: single_1.10.0.tgz PackageFileSize: 1.407 MiB