Package: sincell Version: 1.38.0 Command: /home/biocbuild/R/R/bin/R CMD build --keep-empty-dirs --no-resave-data sincell StartedAt: 2025-01-31 02:46:13 -0000 (Fri, 31 Jan 2025) EndedAt: 2025-01-31 02:48:24 -0000 (Fri, 31 Jan 2025) EllapsedTime: 131.1 seconds RetCode: 0 Status: OK PackageFile: sincell_1.38.0.tar.gz PackageFileSize: 1.01 MiB