Package: sincell Version: 1.38.0 Command: /Library/Frameworks/R.framework/Resources/bin/R CMD build --keep-empty-dirs --no-resave-data sincell StartedAt: 2025-01-03 08:04:45 -0500 (Fri, 03 Jan 2025) EndedAt: 2025-01-03 08:08:43 -0500 (Fri, 03 Jan 2025) EllapsedTime: 237.3 seconds RetCode: 0 Status: OK PackageFile: sincell_1.38.0.tar.gz PackageFileSize: 1.187 MiB