Package: simona Version: 1.4.0 Command: /home/biocbuild/bbs-3.20-bioc/R/bin/R CMD build --keep-empty-dirs --no-resave-data --md5 simona StartedAt: 2025-01-30 19:11:21 -0500 (Thu, 30 Jan 2025) EndedAt: 2025-01-30 19:12:38 -0500 (Thu, 30 Jan 2025) EllapsedTime: 77.1 seconds RetCode: 0 Status: OK PackageFile: simona_1.4.0.tar.gz PackageFileSize: 947.8 KiB