Package: simona Version: 1.4.0 Command: /Library/Frameworks/R.framework/Resources/bin/R CMD INSTALL simona StartedAt: 2025-01-30 16:02:21 -0500 (Thu, 30 Jan 2025) EndedAt: 2025-01-30 16:04:39 -0500 (Thu, 30 Jan 2025) EllapsedTime: 137.9 seconds RetCode: 0 Status: OK