Package: simona Version: 1.4.0 Command: /Library/Frameworks/R.framework/Resources/bin/R CMD INSTALL simona StartedAt: 2024-11-19 15:27:56 -0500 (Tue, 19 Nov 2024) EndedAt: 2024-11-19 15:29:15 -0500 (Tue, 19 Nov 2024) EllapsedTime: 79.5 seconds RetCode: 0 Status: OK