Package: simona Version: 1.6.0 Command: /Library/Frameworks/R.framework/Resources/bin/R CMD build --keep-empty-dirs --no-resave-data simona StartedAt: 2025-04-21 18:28:56 -0400 (Mon, 21 Apr 2025) EndedAt: 2025-04-21 18:30:03 -0400 (Mon, 21 Apr 2025) EllapsedTime: 66.2 seconds RetCode: 0 Status: OK PackageFile: simona_1.6.0.tar.gz PackageFileSize: 944.3 KiB