Package: simona Version: 1.4.0 Command: /Library/Frameworks/R.framework/Resources/bin/R CMD build --keep-empty-dirs --no-resave-data simona StartedAt: 2025-01-31 08:10:45 -0500 (Fri, 31 Jan 2025) EndedAt: 2025-01-31 08:12:00 -0500 (Fri, 31 Jan 2025) EllapsedTime: 75.3 seconds RetCode: 0 Status: OK PackageFile: simona_1.4.0.tar.gz PackageFileSize: 944.2 KiB