Package: sigsquared Version: 1.40.0 Maintainer: UnJin Lee MaintainerEmail: unjin at uchicago.edu git_url: https://git.bioconductor.org/packages/sigsquared git_branch: RELEASE_3_21 git_last_commit: b787191 git_last_commit_date: 2025-04-15 10:38:15 -0400 (Tue, 15 Apr 2025)