Package: signifinder Version: 1.8.0 Command: F:\biocbuild\bbs-3.20-bioc\R\bin\R.exe CMD check --no-multiarch --install=check:signifinder.install-out.txt --library=F:\biocbuild\bbs-3.20-bioc\R\library --no-vignettes --timings signifinder_1.8.0.tar.gz StartedAt: 2025-01-31 06:30:39 -0500 (Fri, 31 Jan 2025) EndedAt: 2025-01-31 06:43:46 -0500 (Fri, 31 Jan 2025) EllapsedTime: 787.2 seconds RetCode: 1 Status: ERROR CheckDir: signifinder.Rcheck Warnings: NA