Package: signifinder Version: 1.8.0 Command: chmod a+r signifinder -R && F:\biocbuild\bbs-3.20-bioc\R\bin\R.exe CMD build --keep-empty-dirs --no-resave-data signifinder StartedAt: 2025-01-30 21:53:28 -0500 (Thu, 30 Jan 2025) EndedAt: 2025-01-30 21:57:04 -0500 (Thu, 30 Jan 2025) EllapsedTime: 215.6 seconds RetCode: 0 Status: OK PackageFile: signifinder_1.8.0.tar.gz PackageFileSize: 8.064 MiB