Package: signifinder Version: 1.10.0 Command: /Library/Frameworks/R.framework/Resources/bin/R CMD INSTALL signifinder StartedAt: 2025-04-21 15:47:19 -0400 (Mon, 21 Apr 2025) EndedAt: 2025-04-21 15:48:31 -0400 (Mon, 21 Apr 2025) EllapsedTime: 72.2 seconds RetCode: 0 Status: OK