Package: signifinder Version: 1.10.0 Command: /Library/Frameworks/R.framework/Resources/bin/R CMD check --install=check:signifinder.install-out.txt --library=/Library/Frameworks/R.framework/Resources/library --no-vignettes --timings signifinder_1.10.0.tar.gz StartedAt: 2025-04-21 23:35:18 -0400 (Mon, 21 Apr 2025) EndedAt: 2025-04-21 23:57:35 -0400 (Mon, 21 Apr 2025) EllapsedTime: 1337.3 seconds RetCode: 0 Status: OK CheckDir: signifinder.Rcheck Warnings: 0