Package: signeR
Version: 2.8.0
Command: /home/biocbuild/R/R/bin/R CMD check --install=check:signeR.install-out.txt --library=/home/biocbuild/R/R/site-library --no-vignettes --timings signeR_2.8.0.tar.gz
StartedAt: 2025-02-11 10:27:34 -0000 (Tue, 11 Feb 2025)
EndedAt: 2025-02-11 10:35:45 -0000 (Tue, 11 Feb 2025)
EllapsedTime: 490.7 seconds
RetCode: 0
Status: OK
CheckDir: signeR.Rcheck
Warnings: 0