Package: sights Version: 1.34.0 Command: /Library/Frameworks/R.framework/Resources/bin/R CMD check --install=check:sights.install-out.txt --library=/Library/Frameworks/R.framework/Resources/library --no-vignettes --timings sights_1.34.0.tar.gz StartedAt: 2025-04-21 21:41:00 -0400 (Mon, 21 Apr 2025) EndedAt: 2025-04-21 21:41:43 -0400 (Mon, 21 Apr 2025) EllapsedTime: 43.7 seconds RetCode: 0 Status: OK CheckDir: sights.Rcheck Warnings: 0