Package: sights Version: 1.34.0 Command: /Library/Frameworks/R.framework/Resources/bin/R CMD check --install=check:sights.install-out.txt --library=/Library/Frameworks/R.framework/Resources/library --no-vignettes --timings sights_1.34.0.tar.gz StartedAt: 2025-05-10 09:27:44 -0400 (Sat, 10 May 2025) EndedAt: 2025-05-10 09:29:48 -0400 (Sat, 10 May 2025) EllapsedTime: 123.9 seconds RetCode: 0 Status: OK CheckDir: sights.Rcheck Warnings: 0