Package: siggenes Version: 1.82.0 Command: /home/biocbuild/bbs-3.21-bioc/R/bin/R CMD build --keep-empty-dirs --no-resave-data siggenes StartedAt: 2025-10-01 19:59:13 -0400 (Wed, 01 Oct 2025) EndedAt: 2025-10-01 19:59:38 -0400 (Wed, 01 Oct 2025) EllapsedTime: 25.0 seconds RetCode: 0 Status: OK PackageFile: siggenes_1.82.0.tar.gz PackageFileSize: 744.8 KiB