Package: siggenes Version: 1.82.0 Command: /Library/Frameworks/R.framework/Resources/bin/R CMD check --install=check:siggenes.install-out.txt --library=/Library/Frameworks/R.framework/Resources/library --no-vignettes --timings siggenes_1.82.0.tar.gz StartedAt: 2025-04-21 23:34:58 -0400 (Mon, 21 Apr 2025) EndedAt: 2025-04-21 23:36:18 -0400 (Mon, 21 Apr 2025) EllapsedTime: 79.6 seconds RetCode: 0 Status: OK CheckDir: siggenes.Rcheck Warnings: 0