Package: siggenes Version: 1.82.0 Command: /Library/Frameworks/R.framework/Resources/bin/R CMD build --keep-empty-dirs --no-resave-data siggenes StartedAt: 2025-04-21 18:27:53 -0400 (Mon, 21 Apr 2025) EndedAt: 2025-04-21 18:28:28 -0400 (Mon, 21 Apr 2025) EllapsedTime: 34.5 seconds RetCode: 0 Status: OK PackageFile: siggenes_1.82.0.tar.gz PackageFileSize: 743.5 KiB