Package: siggenes Version: 1.82.0 Command: rm -rf siggenes.buildbin-libdir && mkdir siggenes.buildbin-libdir && /Users/biocbuild/BBS/utils/build-universal.sh siggenes_1.82.0.tar.gz /Library/Frameworks/R.framework/Resources/bin/R siggenes.buildbin-libdir StartedAt: 2025-04-22 01:09:26 -0400 (Tue, 22 Apr 2025) EndedAt: 2025-04-22 01:09:45 -0400 (Tue, 22 Apr 2025) EllapsedTime: 19.6 seconds RetCode: 0 Status: OK PackageFile: siggenes_1.82.0.tgz PackageFileSize: 1.231 MiB