Package: sigFeature Version: 1.26.0 Command: rm -rf sigFeature.buildbin-libdir && mkdir sigFeature.buildbin-libdir && E:\biocbuild\bbs-3.21-bioc\R\bin\R.exe CMD INSTALL --build --library=sigFeature.buildbin-libdir sigFeature_1.26.0.tar.gz StartedAt: 2025-08-15 10:18:37 -0400 (Fri, 15 Aug 2025) EndedAt: 2025-08-15 10:19:22 -0400 (Fri, 15 Aug 2025) EllapsedTime: 45.0 seconds RetCode: 0 Status: OK PackageFile: sigFeature_1.26.0.zip PackageFileSize: 400.7 KiB