Package: sigFeature Version: 1.26.0 Maintainer: Pijush Das Developer MaintainerEmail: topijush at gmail.com git_url: https://git.bioconductor.org/packages/sigFeature git_branch: RELEASE_3_21 git_last_commit: a618cd7 git_last_commit_date: 2025-04-15 11:34:00 -0400 (Tue, 15 Apr 2025)