Package: shinyepico Version: 1.16.0 Command: /Library/Frameworks/R.framework/Resources/bin/R CMD check --install=check:shinyepico.install-out.txt --library=/Library/Frameworks/R.framework/Resources/library --no-vignettes --timings shinyepico_1.16.0.tar.gz StartedAt: 2025-05-17 09:35:08 -0400 (Sat, 17 May 2025) EndedAt: 2025-05-17 09:38:43 -0400 (Sat, 17 May 2025) EllapsedTime: 215.4 seconds RetCode: 0 Status: OK CheckDir: shinyepico.Rcheck Warnings: 0