Package: shinyepico Version: 1.16.0 Command: rm -rf shinyepico.buildbin-libdir && mkdir shinyepico.buildbin-libdir && /Users/biocbuild/BBS/utils/build-universal.sh shinyepico_1.16.0.tar.gz /Library/Frameworks/R.framework/Resources/bin/R shinyepico.buildbin-libdir StartedAt: 2025-05-17 17:26:02 -0400 (Sat, 17 May 2025) EndedAt: 2025-05-17 17:26:10 -0400 (Sat, 17 May 2025) EllapsedTime: 8.0 seconds RetCode: 0 Status: OK PackageFile: shinyepico_1.16.0.tgz PackageFileSize: 1.469 MiB