Package: shinybiocloader Version: 0.99.1 Command: /home/biocbuild/R/R/bin/R CMD INSTALL shinybiocloader StartedAt: 2025-10-23 20:24:51 -0000 (Thu, 23 Oct 2025) EndedAt: 2025-10-23 20:25:47 -0000 (Thu, 23 Oct 2025) EllapsedTime: 55.4 seconds RetCode: 0 Status: OK