Package: shinybiocloader Version: 0.99.1 Command: /home/biocbuild/R/R/bin/R CMD build --keep-empty-dirs --no-resave-data shinybiocloader StartedAt: 2025-10-21 03:08:59 -0000 (Tue, 21 Oct 2025) EndedAt: 2025-10-21 03:09:11 -0000 (Tue, 21 Oct 2025) EllapsedTime: 12.0 seconds RetCode: 0 Status: OK PackageFile: shinybiocloader_0.99.1.tar.gz PackageFileSize: 28.65 KiB