Package: shinybiocloader Version: 1.0.0 Command: /home/biocbuild/bbs-3.22-bioc/R/bin/R CMD check --install=check:shinybiocloader.install-out.txt --library=/home/biocbuild/bbs-3.22-bioc/R/site-library --timings shinybiocloader_1.0.0.tar.gz StartedAt: 2025-11-07 04:01:59 -0500 (Fri, 07 Nov 2025) EndedAt: 2025-11-07 04:02:30 -0500 (Fri, 07 Nov 2025) EllapsedTime: 31.0 seconds RetCode: 0 Status: OK CheckDir: shinybiocloader.Rcheck Warnings: 0