Package: shinybiocloader Version: 1.0.0 Command: /home/biocbuild/bbs-3.22-bioc/R/bin/R CMD build --keep-empty-dirs --no-resave-data --md5 shinybiocloader StartedAt: 2025-11-06 20:04:15 -0500 (Thu, 06 Nov 2025) EndedAt: 2025-11-06 20:04:24 -0500 (Thu, 06 Nov 2025) EllapsedTime: 9.0 seconds RetCode: 0 Status: OK PackageFile: shinybiocloader_1.0.0.tar.gz PackageFileSize: 29.33 KiB