Package: shinybiocloader Version: 1.0.0 Command: /Library/Frameworks/R.framework/Resources/bin/R CMD build --keep-empty-dirs --no-resave-data shinybiocloader StartedAt: 2025-11-20 23:48:00 -0500 (Thu, 20 Nov 2025) EndedAt: 2025-11-20 23:48:19 -0500 (Thu, 20 Nov 2025) EllapsedTime: 19.0 seconds RetCode: 0 Status: OK PackageFile: shinybiocloader_1.0.0.tar.gz PackageFileSize: 28.81 KiB