Package: shinybiocloader Version: 1.0.0 Command: /Library/Frameworks/R.framework/Resources/bin/R CMD INSTALL shinybiocloader StartedAt: 2025-11-03 15:14:44 -0500 (Mon, 03 Nov 2025) EndedAt: 2025-11-03 15:15:27 -0500 (Mon, 03 Nov 2025) EllapsedTime: 42.5 seconds RetCode: 0 Status: OK