Package: shinybiocloader Version: 1.0.0 Command: /Library/Frameworks/R.framework/Resources/bin/R CMD build --keep-empty-dirs --no-resave-data shinybiocloader StartedAt: 2025-11-03 18:47:33 -0500 (Mon, 03 Nov 2025) EndedAt: 2025-11-03 18:47:48 -0500 (Mon, 03 Nov 2025) EllapsedTime: 14.8 seconds RetCode: 0 Status: OK PackageFile: shinybiocloader_1.0.0.tar.gz PackageFileSize: 28.81 KiB