Package: shinybiocloader Version: 1.0.0 Command: /Library/Frameworks/R.framework/Resources/bin/R CMD INSTALL shinybiocloader StartedAt: 2025-11-06 15:04:46 -0500 (Thu, 06 Nov 2025) EndedAt: 2025-11-06 15:05:01 -0500 (Thu, 06 Nov 2025) EllapsedTime: 15.4 seconds RetCode: 0 Status: OK