Package: shinybiocloader Version: 1.0.0 Command: /Library/Frameworks/R.framework/Resources/bin/R CMD INSTALL shinybiocloader StartedAt: 2025-11-24 15:27:06 -0500 (Mon, 24 Nov 2025) EndedAt: 2025-11-24 15:27:22 -0500 (Mon, 24 Nov 2025) EllapsedTime: 16.7 seconds RetCode: 0 Status: OK