Package: shinybiocloader Version: 1.0.0 Maintainer: Marcel Ramos MaintainerEmail: marcel.ramos at sph.cuny.edu git_url: https://git.bioconductor.org/packages/shinybiocloader git_branch: RELEASE_3_22 git_last_commit: 80a07b2 git_last_commit_date: 2025-10-29 11:37:55 -0500 (Wed, 29 Oct 2025)