Package: shinyMethyl Version: 1.42.0 Command: /home/biocbuild/R/R/bin/R CMD check --install=check:shinyMethyl.install-out.txt --library=/home/biocbuild/R/R/site-library --no-vignettes --timings shinyMethyl_1.42.0.tar.gz StartedAt: 2025-01-31 10:25:03 -0000 (Fri, 31 Jan 2025) EndedAt: 2025-01-31 10:31:41 -0000 (Fri, 31 Jan 2025) EllapsedTime: 397.5 seconds RetCode: 0 Status: OK CheckDir: shinyMethyl.Rcheck Warnings: 0