Package: shinyDSP Version: 1.2.0 Command: /home/biocbuild/R/R/bin/R CMD INSTALL shinyDSP StartedAt: 2025-11-17 22:06:45 -0000 (Mon, 17 Nov 2025) EndedAt: 2025-11-17 22:07:37 -0000 (Mon, 17 Nov 2025) EllapsedTime: 52.2 seconds RetCode: 0 Status: OK