Package: shinyDSP Version: 1.2.0 Command: /home/biocbuild/R/R/bin/R CMD build --keep-empty-dirs --no-resave-data shinyDSP StartedAt: 2025-11-18 05:06:21 -0000 (Tue, 18 Nov 2025) EndedAt: 2025-11-18 05:12:53 -0000 (Tue, 18 Nov 2025) EllapsedTime: 392.2 seconds RetCode: 0 Status: OK PackageFile: shinyDSP_1.2.0.tar.gz PackageFileSize: 2.485 MiB