Package: shinyDSP Version: 1.2.0 Command: /home/biocbuild/bbs-3.22-bioc/R/bin/R CMD INSTALL shinyDSP StartedAt: 2025-11-06 15:58:10 -0500 (Thu, 06 Nov 2025) EndedAt: 2025-11-06 15:58:49 -0500 (Thu, 06 Nov 2025) EllapsedTime: 39.0 seconds RetCode: 0 Status: OK