Package: shinyDSP Version: 1.2.0 Command: /Library/Frameworks/R.framework/Resources/bin/R CMD INSTALL shinyDSP StartedAt: 2025-11-17 18:49:18 -0500 (Mon, 17 Nov 2025) EndedAt: 2025-11-17 18:50:42 -0500 (Mon, 17 Nov 2025) EllapsedTime: 84.0 seconds RetCode: 0 Status: OK