Package: shinyDSP Version: 1.2.0 Command: /Library/Frameworks/R.framework/Resources/bin/R CMD build --keep-empty-dirs --no-resave-data shinyDSP StartedAt: 2025-11-18 02:15:49 -0500 (Tue, 18 Nov 2025) EndedAt: 2025-11-18 02:26:16 -0500 (Tue, 18 Nov 2025) EllapsedTime: 626.9 seconds RetCode: 0 Status: OK PackageFile: shinyDSP_1.2.0.tar.gz PackageFileSize: 2.656 MiB