Package: shinyDSP Version: 1.2.0 Command: rm -rf shinyDSP.buildbin-libdir && mkdir shinyDSP.buildbin-libdir && /Users/biocbuild/BBS/utils/build-universal.sh shinyDSP_1.2.0.tar.gz /Library/Frameworks/R.framework/Resources/bin/R shinyDSP.buildbin-libdir StartedAt: 2025-11-18 18:35:52 -0500 (Tue, 18 Nov 2025) EndedAt: 2025-11-18 18:37:16 -0500 (Tue, 18 Nov 2025) EllapsedTime: 83.8 seconds RetCode: 0 Status: OK PackageFile: shinyDSP_1.2.0.tgz PackageFileSize: 1.734 MiB