Package: shinyDSP Version: 1.0.3 Command: /home/biocbuild/R/R/bin/R CMD INSTALL shinyDSP StartedAt: 2025-10-09 21:14:50 -0000 (Thu, 09 Oct 2025) EndedAt: 2025-10-09 21:15:44 -0000 (Thu, 09 Oct 2025) EllapsedTime: 53.8 seconds RetCode: 0 Status: OK