Package: shinyDSP Version: 1.0.3 Command: /home/biocbuild/R/R/bin/R CMD build --keep-empty-dirs --no-resave-data shinyDSP StartedAt: 2025-10-10 04:37:10 -0000 (Fri, 10 Oct 2025) EndedAt: 2025-10-10 04:45:28 -0000 (Fri, 10 Oct 2025) EllapsedTime: 498.2 seconds RetCode: 0 Status: OK PackageFile: shinyDSP_1.0.3.tar.gz PackageFileSize: 2.744 MiB