Package: shinyDSP Version: 1.2.0 Maintainer: Seung J. Kim MaintainerEmail: skim823 at uwo.ca git_url: https://git.bioconductor.org/packages/shinyDSP git_branch: RELEASE_3_22 git_last_commit: 867bc12 git_last_commit_date: 2025-10-29 11:35:46 -0500 (Wed, 29 Oct 2025)