Package: sevenbridges Version: 1.38.0 Command: E:\biocbuild\bbs-3.21-bioc\R\bin\R.exe CMD INSTALL sevenbridges StartedAt: 2025-08-14 15:41:50 -0400 (Thu, 14 Aug 2025) EndedAt: 2025-08-14 15:47:32 -0400 (Thu, 14 Aug 2025) EllapsedTime: 341.6 seconds RetCode: 0 Status: OK