Package: sevenbridges Version: 1.38.0 Command: /home/biocbuild/bbs-3.21-bioc/R/bin/R CMD build --keep-empty-dirs --no-resave-data sevenbridges StartedAt: 2025-10-01 19:57:50 -0400 (Wed, 01 Oct 2025) EndedAt: 2025-10-01 19:59:13 -0400 (Wed, 01 Oct 2025) EllapsedTime: 83.1 seconds RetCode: 0 Status: OK PackageFile: sevenbridges_1.38.0.tar.gz PackageFileSize: 4.656 MiB