Package: sevenbridges Version: 1.38.0 Command: /home/biocbuild/R/R/bin/R CMD INSTALL sevenbridges StartedAt: 2025-05-15 20:24:23 -0000 (Thu, 15 May 2025) EndedAt: 2025-05-15 20:25:00 -0000 (Thu, 15 May 2025) EllapsedTime: 37.0 seconds RetCode: 0 Status: OK