Package: sevenbridges Version: 1.38.0 Command: /Library/Frameworks/R.framework/Resources/bin/R CMD check --install=check:sevenbridges.install-out.txt --library=/Library/Frameworks/R.framework/Resources/library --no-vignettes --timings sevenbridges_1.38.0.tar.gz StartedAt: 2025-05-21 09:23:26 -0400 (Wed, 21 May 2025) EndedAt: 2025-05-21 09:26:11 -0400 (Wed, 21 May 2025) EllapsedTime: 164.9 seconds RetCode: 0 Status: OK CheckDir: sevenbridges.Rcheck Warnings: 0